BEGIN:VCALENDAR
VERSION:2.0
PRODID:-//WP EVENT Manager Ical//NONSGML Events//EN
CALSCALE:GREGORIAN
BEGIN:VTIMEZONE
TZID:Asia/Kolkata
BEGIN:STANDARD
DTSTART:19700101T000000
TZOFFSETFROM:+0530
TZOFFSETTO:+0530
END:STANDARD
END:VTIMEZONE
BEGIN:VEVENT
UID:69e8a6c1b0093@familienzentrum-sonnenschein.at
DTSTAMP:20260422T104521Z
DTSTART;TZID=Asia/Kolkata:20250506T180000
DTEND;TZID=Asia/Kolkata:20250506T200000
LOCATION:Barmherzigengasse 17/5/2
SUMMARY:„Im Einklang mit dir – das Leben bewusster gestalten“
DESCRIPTION:Impulsabend&#8222;Wie kann ich den Wert des Lebens wieder mehr spüren und meinem Herzen folgen?&#8220;Diese Talks und der Austausch bieten die Gelegenheit, sich aktiv mit der eigenen Lebenssituation auseinanderzusetzen. Inspirierende Inhalte eröffnen neue Perspektiven und bieten die Chance, eigener Person mehr Raum zu geben – ohne sich schuldig zu fühlen. Sie tragen dazu bei, die eigenen Herausforderungen und persönliche Bedürfnisse klarer zu sehen, sodass das Leben wieder neu ausgerichtet werden kann – auf das, was&nbsp;&nbsp; wirklich wertvoll und sinnstiftend ist: eine bewusste Entscheidung, das Leben so zu gestalten, wie es für einem selbst stimmig ist. Dieser geschützte und sichere Rahmen lädt die TeilnehmerInnen ein, ihre Erfahrungen zu teilen, zu reflektieren und voneinander zu lernen.Eine Einzelberatung und individuelle Vertiefung werden gerne auf persönliche Anfrage angeboten.
END:VEVENT
END:VCALENDAR