BEGIN:VCALENDAR
VERSION:2.0
PRODID:-//WP EVENT Manager Ical//NONSGML Events//EN
CALSCALE:GREGORIAN
BEGIN:VTIMEZONE
TZID:Asia/Kolkata
BEGIN:STANDARD
DTSTART:19700101T000000
TZOFFSETFROM:+0530
TZOFFSETTO:+0530
END:STANDARD
END:VTIMEZONE
BEGIN:VEVENT
UID:69e892a1596cd@familienzentrum-sonnenschein.at
DTSTAMP:20260422T091929Z
DTSTART;TZID=Asia/Kolkata:20260325T150000
DTEND;TZID=Asia/Kolkata:20260325T170000
LOCATION:Barmherzigengasse 17/5/2
SUMMARY:Blockflöte und Klavier und Gesangsunterricht
DESCRIPTION:Musik öffnet Türen – zu Kreativität, Ausdruck und Freude. Im Unterricht für Flöte, Klavier und Gesang stehen Individualität und Spaß am Musizieren im Mittelpunkt. Kinder ab 4 Jahren werden spielerisch, kreativ und altersgerecht an die Welt der Musik herangeführt. Erwachsene profitieren von einem entspannten, motivierenden Unterricht, der sich an persönlichen Zielen und Wünschen orientiert. Ob Anfänger, Wiedereinsteiger oder Fortgeschrittene – jeder ist herzlich willkommen. Technik, musikalisches Verständnis und Ausdruck werden behutsam und effektiv entwickelt. Der Unterricht fördert Konzentration, Selbstvertrauen und künstlerische Entfaltung. Eine freundliche, wertschätzende Atmosphäre sorgt für nachhaltige Lernerfolge. Gemeinsam entdecken wir die Vielfalt der Musik und entwickeln das eigene musikalische Potenzial. Starten Sie jetzt Ihre musikalische Reise!Für Kinder ab 4 Jahren
END:VEVENT
END:VCALENDAR