BEGIN:VCALENDAR
VERSION:2.0
PRODID:-//WP EVENT Manager Ical//NONSGML Events//EN
CALSCALE:GREGORIAN
BEGIN:VTIMEZONE
TZID:Asia/Kolkata
BEGIN:STANDARD
DTSTART:19700101T000000
TZOFFSETFROM:+0530
TZOFFSETTO:+0530
END:STANDARD
END:VTIMEZONE
BEGIN:VEVENT
UID:69e8a52a2603a@familienzentrum-sonnenschein.at
DTSTAMP:20260422T103834Z
DTSTART;TZID=Asia/Kolkata:20250213T090000
DTEND;TZID=Asia/Kolkata:20250626T110000
LOCATION:Barmherzigengasse 17/5/2
SUMMARY:Babytreff
DESCRIPTION:
END:VEVENT
END:VCALENDAR